BEGIN:VCALENDAR
PRODID:-//Solspace/Calendar//EN
VERSION:2.0
CALSCALE:GREGORIAN
BEGIN:VEVENT
UID:07cc3a01f41bd96f9c7b64e6a923d4f7@solspace.com
DTSTAMP:20260422T165639
DTSTART:20250313T190000
DTEND:20250313T204500
SUMMARY:Young Adults Gathering
END:VEVENT
BEGIN:VEVENT
UID:9cda865d46ccba89b6bceb30f829cb49@solspace.com
DTSTAMP:20260422T165639
DTSTART:20251211T190000
DTEND:20251211T204500
SUMMARY:Young Adults Gathering
END:VEVENT
BEGIN:VEVENT
UID:2e6d2f116e32e7c8501515811531bde5@solspace.com
DTSTAMP:20260422T165639
DTSTART:20251218T190000
DTEND:20251218T204500
SUMMARY:Young Adults Gathering
END:VEVENT
BEGIN:VEVENT
UID:825f1245540bda97a0654e6444f6863d@solspace.com
DTSTAMP:20260422T165639
DTSTART:20260108T190000
DTEND:20260108T204500
SUMMARY:Young Adults Gathering
END:VEVENT
BEGIN:VEVENT
UID:4cc580b97b0cd2d5ef15f58ce81db741@solspace.com
DTSTAMP:20260422T165639
DTSTART:20260115T190000
DTEND:20260115T204500
SUMMARY:Young Adults Gathering
END:VEVENT
BEGIN:VEVENT
UID:cea0ad5c92f89c6230b2451220001f1e@solspace.com
DTSTAMP:20260422T165639
DTSTART:20260122T190000
DTEND:20260122T204500
SUMMARY:Young Adults Gathering
END:VEVENT
BEGIN:VEVENT
UID:c4c49e6a0b7b929e8d828b3f2ac409bb@solspace.com
DTSTAMP:20260422T165639
DTSTART:20260129T190000
DTEND:20260129T204500
SUMMARY:Young Adults Gathering
END:VEVENT
BEGIN:VEVENT
UID:b2a8423b061fc4f6f0efc78f1bce9a3f@solspace.com
DTSTAMP:20260422T165639
DTSTART:20260205T190000
DTEND:20260205T204500
SUMMARY:Young Adults Gathering
END:VEVENT
BEGIN:VEVENT
UID:f05b805bd3a26e150bd2a2f7a87363d9@solspace.com
DTSTAMP:20260422T165639
DTSTART:20260212T190000
DTEND:20260212T204500
SUMMARY:Young Adults Gathering
END:VEVENT
BEGIN:VEVENT
UID:ca9177f252dd23cbe4d724dbf1abf371@solspace.com
DTSTAMP:20260422T165639
DTSTART:20260219T190000
DTEND:20260219T204500
SUMMARY:Young Adults Gathering
END:VEVENT
BEGIN:VEVENT
UID:0560d6ea2e018e99246d6c584fdd24a5@solspace.com
DTSTAMP:20260422T165639
DTSTART:20260226T190000
DTEND:20260226T204500
SUMMARY:Young Adults Gathering
END:VEVENT
BEGIN:VEVENT
UID:c939e1b7ea8f02f1b3e87bb9eb22ec1d@solspace.com
DTSTAMP:20260422T165639
DTSTART:20260305T190000
DTEND:20260305T204500
SUMMARY:Young Adults Gathering
END:VEVENT
BEGIN:VEVENT
UID:664a20948fb4b373dade85dab0674428@solspace.com
DTSTAMP:20260422T165639
DTSTART:20260319T190000
DTEND:20260319T204500
SUMMARY:Young Adults Gathering
END:VEVENT
BEGIN:VEVENT
UID:615027d61bb24300d506efdba772b67b@solspace.com
DTSTAMP:20260422T165639
DTSTART:20260326T190000
DTEND:20260326T204500
SUMMARY:Young Adults Gathering
END:VEVENT
BEGIN:VEVENT
UID:ab5ff6f78a38cb0a89854605f59834bd@solspace.com
DTSTAMP:20260422T165639
DTSTART:20260402T190000
DTEND:20260402T204500
SUMMARY:Young Adults Gathering
END:VEVENT
BEGIN:VEVENT
UID:241632b79acaa1c3bbc10b9b9fb18d2f@solspace.com
DTSTAMP:20260422T165639
DTSTART:20260409T190000
DTEND:20260409T204500
SUMMARY:Young Adults Gathering
END:VEVENT
BEGIN:VEVENT
UID:58abfaaeb17ba85b99a4513716bf757f@solspace.com
DTSTAMP:20260422T165639
DTSTART:20260416T190000
DTEND:20260416T204500
SUMMARY:Young Adults Gathering
END:VEVENT
BEGIN:VEVENT
UID:b723bdf49463fb845573d6a17d37f6eb@solspace.com
DTSTAMP:20260422T165639
DTSTART:20260423T190000
DTEND:20260423T204500
SUMMARY:Young Adults Gathering
END:VEVENT
BEGIN:VEVENT
UID:359f36b9999100ba0d4c8c5f2d634e00@solspace.com
DTSTAMP:20260422T165639
DTSTART:20260430T190000
DTEND:20260430T204500
SUMMARY:Young Adults Gathering
END:VEVENT
BEGIN:VEVENT
UID:a92ce9e75f345c7ca5c57860a5e8f894@solspace.com
DTSTAMP:20260422T165639
DTSTART:20250406T081500
DTEND:20250406T101500
SUMMARY:Community Formation Class
END:VEVENT
BEGIN:VEVENT
UID:078b11fcba4844f05bfce8035fc61845@solspace.com
DTSTAMP:20260422T165639
DTSTART:20260412T081500
DTEND:20260412T101500
SUMMARY:Community Formation Class
END:VEVENT
BEGIN:VEVENT
UID:5b481e3887152b664f8e0e0ab2307376@solspace.com
DTSTAMP:20260422T165639
DTSTART:20260712T081500
DTEND:20260712T101500
SUMMARY:Community Formation Class
END:VEVENT
BEGIN:VEVENT
UID:ade8d99f193c377ac152b1eb09b74838@solspace.com
DTSTAMP:20260422T165639
DTSTART:20261004T081500
DTEND:20261004T101500
SUMMARY:Community Formation Class
END:VEVENT
BEGIN:VEVENT
UID:3e6349a98e9e819c453e4b027b4076a2@solspace.com
DTSTAMP:20260422T165639
DTSTART:20250603T100000
DTEND:20250603T120000
SUMMARY:Sack Lunch Social
END:VEVENT
BEGIN:VEVENT
UID:0d385ed4d5a0533324503db1ec144eba@solspace.com
DTSTAMP:20260422T165639
DTSTART:20250610T100000
DTEND:20250610T120000
SUMMARY:Sack Lunch Social
END:VEVENT
BEGIN:VEVENT
UID:2a04fbe82f78d8bd3c4d28663c405cc4@solspace.com
DTSTAMP:20260422T165639
DTSTART:20250617T100000
DTEND:20250617T120000
SUMMARY:Sack Lunch Social
END:VEVENT
BEGIN:VEVENT
UID:39b1198ca66d8356bb03184243f24a5b@solspace.com
DTSTAMP:20260422T165639
DTSTART:20250624T100000
DTEND:20250624T120000
SUMMARY:Sack Lunch Social
END:VEVENT
BEGIN:VEVENT
UID:e3b91d88495766221e452736360df9b7@solspace.com
DTSTAMP:20260422T165639
DTSTART:20250708T100000
DTEND:20250708T120000
SUMMARY:Sack Lunch Social
END:VEVENT
BEGIN:VEVENT
UID:68bad938c15bd9e053f2ed50087ec669@solspace.com
DTSTAMP:20260422T165639
DTSTART:20250715T100000
DTEND:20250715T120000
SUMMARY:Sack Lunch Social
END:VEVENT
BEGIN:VEVENT
UID:46f78ef57f6fa0ceccbb10122431a6c3@solspace.com
DTSTAMP:20260422T165639
DTSTART:20250722T100000
DTEND:20250722T120000
SUMMARY:Sack Lunch Social
END:VEVENT
BEGIN:VEVENT
UID:ce8f10c89ef115d45ac7c0123eb24086@solspace.com
DTSTAMP:20260422T165639
DTSTART:20250729T100000
DTEND:20250729T120000
SUMMARY:Sack Lunch Social
END:VEVENT
BEGIN:VEVENT
UID:425176d218e80fff6acf253fbe7e5b51@solspace.com
DTSTAMP:20260422T165639
DTSTART:20250805T100000
DTEND:20250805T120000
SUMMARY:Sack Lunch Social
END:VEVENT
BEGIN:VEVENT
UID:1b3d19e8e38a263d76b4a4d7b07e0734@solspace.com
DTSTAMP:20260422T165639
DTSTART:20250812T100000
DTEND:20250812T120000
SUMMARY:Sack Lunch Social
END:VEVENT
BEGIN:VEVENT
UID:a2036d21d985cf3a00fe9210fcea5f72@solspace.com
DTSTAMP:20260422T165639
DTSTART:20250903T093000
DTEND:20250903T111500
SUMMARY:Women's Morning Bible Study
END:VEVENT
BEGIN:VEVENT
UID:fd725a84ca615605e101ba305ae0a12f@solspace.com
DTSTAMP:20260422T165639
DTSTART:20250903T181500
DTEND:20250903T193000
SUMMARY:Women's Evening Bible Study
END:VEVENT
BEGIN:VEVENT
UID:20f4d237765a3096520472199cb97609@solspace.com
DTSTAMP:20260422T165639
DTSTART:20251009T180000
DTEND:20251009T203000
SUMMARY:Hillside Women's Night of Worship
END:VEVENT
BEGIN:VEVENT
UID:e19ba4485d530f6a24a12a7e1539146e@solspace.com
DTSTAMP:20260422T165639
DTSTART:20251208T183000
DTEND:20251208T200000
SUMMARY:Community Training Night
END:VEVENT
BEGIN:VEVENT
UID:cd083674929a7d6c45f24d25a59000d0@solspace.com
DTSTAMP:20260422T165639
DTSTART:20261207T183000
DTEND:20261207T200000
SUMMARY:Community Training Night
END:VEVENT
BEGIN:VEVENT
UID:b3a60f3d1c51107e0ba095a41cfe0eb5@solspace.com
DTSTAMP:20260422T165639
DTSTART:20260119T183000
DTEND:20260119T203000
SUMMARY:re|engage
END:VEVENT
BEGIN:VEVENT
UID:e005bfeab8d0645ec4b06131adacb8b3@solspace.com
DTSTAMP:20260422T165639
DTSTART:20260120T183000
DTEND:20260120T203000
SUMMARY:Journey Groups
END:VEVENT
BEGIN:VEVENT
UID:d8bc4dc9283d564d7e9a23cccdb084f4@solspace.com
DTSTAMP:20260422T165639
DTSTART:20260122T190000
DTEND:20260122T203000
SUMMARY:YAM Night of Worship
END:VEVENT
BEGIN:VEVENT
UID:9624982deefb1a51bfd5eff37f910221@solspace.com
DTSTAMP:20260422T165639
DTSTART:20260128T061500
DTEND:20260128T074500
SUMMARY:Men's Morning Bible Study- Spring 2026
END:VEVENT
BEGIN:VEVENT
UID:de05db8090aa943b4980030f681542ac@solspace.com
DTSTAMP:20260422T165639
DTSTART:20260128T093000
DTEND:20260128T111500
SUMMARY:Women's Morning Bible Study - Spring 2026
END:VEVENT
BEGIN:VEVENT
UID:b2b1c52bb10879ec60d1dacc30efdac1@solspace.com
DTSTAMP:20260422T165639
DTSTART:20260128T180000
DTEND:20260128T190000
SUMMARY:Men's Evening Bible Study- Spring 2026
END:VEVENT
BEGIN:VEVENT
UID:122876488d3a9d7058726958ecbfd13b@solspace.com
DTSTAMP:20260422T165639
DTSTART:20260128T181500
DTEND:20260128T193000
SUMMARY:Women's Evening Bible Study - Spring 2026
END:VEVENT
BEGIN:VEVENT
UID:f87f65b1ab54c3173ea794e4c76d3564@solspace.com
DTSTAMP:20260422T165639
DTSTART:20260205T110000
DTEND:20260205T130000
SUMMARY:AWE- A Wife of Excellence
END:VEVENT
BEGIN:VEVENT
UID:4a1c1301383cb0ef0da9981777cf6342@solspace.com
DTSTAMP:20260422T165639
DTSTART:20260218T190000
DTEND:20260218T200000
SUMMARY:Night of Worship
END:VEVENT
BEGIN:VEVENT
UID:5bff7831903c0f7f66f0fe131420d5ad@solspace.com
DTSTAMP:20260422T165639
DTSTART:20260317T183000
DTEND:20260317T203000
RRULE:FREQ=WEEKLY;BYDAY=TU
EXDATE:20260428T183000,20260519T183000,20260630T183000,20261124T183000,20261222T183000
SUMMARY:re:generation
END:VEVENT
BEGIN:VEVENT
UID:1298016c42ace021d287d6066f33749e@solspace.com
DTSTAMP:20260422T165639
DTSTART:20260520T090000
DTEND:20260520T120000
SUMMARY:Hillside Women Presents: Gospel Conversations Training
END:VEVENT
BEGIN:VEVENT
UID:65dd347d27904730cf5c147989ce9fbc@solspace.com
DTSTAMP:20260422T165639
DTSTART:20260603T093000
DTEND:20260603T110000
RRULE:FREQ=WEEKLY;UNTIL=20260722T235959Z;BYDAY=WE
EXDATE:20260701T093000
SUMMARY:Women's Summer Bible Study
END:VEVENT
BEGIN:VEVENT
UID:1764782c7e993be0808f97fff0bf2de0@solspace.com
DTSTAMP:20260422T165639
DTSTART:20260606T090000
DTEND:20260606T130000
SUMMARY:Hillside Kids Collaborative Workshop
END:VEVENT
BEGIN:VEVENT
UID:7af98868ad1c694e91efaab924cba93e@solspace.com
DTSTAMP:20260422T165639
DTSTART:20260902T061500
DTEND:20260902T074500
RRULE:FREQ=WEEKLY;UNTIL=20261111T235959Z;BYDAY=WE
SUMMARY:Men's Morning Fall Bible Study
END:VEVENT
BEGIN:VEVENT
UID:94b6a153cfdec5ec45b34f28ba8b3aa8@solspace.com
DTSTAMP:20260422T165639
DTSTART:20260902T180000
DTEND:20260902T191500
RRULE:FREQ=WEEKLY;UNTIL=20261111T235959Z;BYDAY=WE
SUMMARY:Men's Evening Fall Bible Study
END:VEVENT
END:VCALENDAR